BEGIN:VCALENDAR
VERSION:2.0
PRODID:-//87.118.90.70//NONSGML kigkonsult.se iCalcreator 2.20//
CALSCALE:GREGORIAN
METHOD:PUBLISH
X-WR-TIMEZONE:Europe/Berlin
BEGIN:VEVENT
UID:event220@ DBM e.V
DTSTAMP:20260423T073247Z
CATEGORIES:Termine DBM e.V.
DESCRIPTION:Mitgliederversammlung 2020 (verschoben!)\nKategorie: Termine DB
 M e.V.\nICS-Link: https://www.motopaedie-verband.de/index.php?option=com_j
 em&view=event&id=220:mitgliederversammlung-2020\n
DTSTART;TZID=Europe/Berlin:20200314T110000
DTEND;TZID=Europe/Berlin:20200314T160000
LOCATION:Haus der AWO\,Syburger Straße 75\,44265 Dortmund
SUMMARY:Mitgliederversammlung 2020 (verschoben!)
URL:https://www.motopaedie-verband.de/index.php?option=com_jem&view=event&i
 d=220:mitgliederversammlung-2020
END:VEVENT
END:VCALENDAR
