BEGIN:VCALENDAR
VERSION:2.0
PRODID:-//87.118.90.70//NONSGML kigkonsult.se iCalcreator 2.20//
CALSCALE:GREGORIAN
METHOD:PUBLISH
X-WR-TIMEZONE:Europe/Berlin
BEGIN:VEVENT
UID:event267@ DBM e.V
DTSTAMP:20260422T223644Z
CATEGORIES:Termine DBM e.V.
DESCRIPTION:LV Treffen BBMV \nKategorie: Termine DBM e.V.\nICS-Link: https:
 //www.motopaedie-verband.de/index.php?option=com_jem&view=event&id=267:lv-
 treffen-bbmv\n
DTSTART;TZID=Europe/Berlin:20201113T170000
DTEND;TZID=Europe/Berlin:20201113T170000
LOCATION:Via Skype
SUMMARY:LV Treffen BBMV 
URL:https://www.motopaedie-verband.de/index.php?option=com_jem&view=event&i
 d=267:lv-treffen-bbmv
END:VEVENT
END:VCALENDAR
