BEGIN:VCALENDAR
VERSION:2.0
PRODID:-//87.118.90.70//NONSGML kigkonsult.se iCalcreator 2.20//
CALSCALE:GREGORIAN
METHOD:PUBLISH
X-WR-TIMEZONE:Europe/Berlin
BEGIN:VEVENT
UID:event271@ DBM e.V
DTSTAMP:20260422T134736Z
CATEGORIES:Termine DBM e.V.
DESCRIPTION:Fachgruppentreffen Kita NRW - Ausgebucht!\nKategorie: Termine D
 BM e.V.\nICS-Link: https://www.motopaedie-verband.de/index.php?option=com_
 jem&view=event&id=271:fachgruppentreffen-kita-nrw\n
DTSTART;TZID=Europe/Berlin:20201031T100000
DTEND;TZID=Europe/Berlin:20201031T130000
SUMMARY:Fachgruppentreffen Kita NRW - Ausgebucht!
URL:https://www.motopaedie-verband.de/index.php?option=com_jem&view=event&i
 d=271:fachgruppentreffen-kita-nrw
END:VEVENT
END:VCALENDAR
