BEGIN:VCALENDAR
VERSION:2.0
PRODID:-//87.118.90.70//NONSGML kigkonsult.se iCalcreator 2.20//
CALSCALE:GREGORIAN
METHOD:PUBLISH
X-WR-TIMEZONE:Europe/Berlin
BEGIN:VEVENT
UID:event308@ DBM e.V
DTSTAMP:20260420T152709Z
CATEGORIES:Termine DBM e.V.
DESCRIPTION:Gesamtvorstandswochenende\nKategorie: Termine DBM e.V.\nICS-Lin
 k: https://www.motopaedie-verband.de/index.php?option=com_jem&view=event&i
 d=308:gesamtvorstandswochenende\n
DTSTART;VALUE=DATE:20220318
DTEND;VALUE=DATE:20220321
SUMMARY:Gesamtvorstandswochenende
URL:https://www.motopaedie-verband.de/index.php?option=com_jem&view=event&i
 d=308:gesamtvorstandswochenende
END:VEVENT
END:VCALENDAR
