BEGIN:VCALENDAR
VERSION:2.0
PRODID:-//87.118.90.70//NONSGML kigkonsult.se iCalcreator 2.20//
CALSCALE:GREGORIAN
METHOD:PUBLISH
X-WR-TIMEZONE:Europe/Berlin
BEGIN:VEVENT
UID:event334@ DBM e.V
DTSTAMP:20260424T101519Z
CATEGORIES:Termine DBM e.V.
DESCRIPTION:Stammtisch\nKategorie: Termine DBM e.V.\nICS-Link: https://www.
 motopaedie-verband.de/index.php?option=com_jem&view=event&id=334:stammtisc
 h\n
DTSTART;TZID=Europe/Berlin:20220928T190000
DTEND;TZID=Europe/Berlin:20220928T210000
LOCATION:Via Zoom
SUMMARY:Stammtisch
URL:https://www.motopaedie-verband.de/index.php?option=com_jem&view=event&i
 d=334:stammtisch
END:VEVENT
END:VCALENDAR
