BEGIN:VCALENDAR
VERSION:2.0
PRODID:-//87.118.90.70//NONSGML kigkonsult.se iCalcreator 2.20//
CALSCALE:GREGORIAN
METHOD:PUBLISH
X-WR-TIMEZONE:Europe/Berlin
BEGIN:VEVENT
UID:event375@ DBM e.V
DTSTAMP:20260424T201503Z
CATEGORIES:Termine DBM e.V.
DESCRIPTION:RK Rheinland\nKategorie: Termine DBM e.V.\nICS-Link: https://ww
 w.motopaedie-verband.de/index.php?option=com_jem&view=event&id=375:rk-rhei
 nland\n
DTSTART;VALUE=DATE:20231124
DTEND;VALUE=DATE:20231125
SUMMARY:RK Rheinland
URL:https://www.motopaedie-verband.de/index.php?option=com_jem&view=event&i
 d=375:rk-rheinland
END:VEVENT
END:VCALENDAR
